BEGIN:VCALENDAR
VERSION:2.0
PRODID:-//ChamberMaster//Event Calendar 2.0//EN
METHOD:PUBLISH
X-PUBLISHED-TTL:P3D
REFRESH-INTERVAL:P3D
CALSCALE:GREGORIAN
BEGIN:VEVENT
DTSTART:20200626T003000Z
DTEND:20200626T023000Z
X-MICROSOFT-CDO-ALLDAYEVENT:FALSE
SUMMARY:Work for Yourself at 50+
DESCRIPTION:Work for Yourself@50+ is a workshop to help you gain the knowledge\, support\, and resources you need to make informed decisions about working for yourself and take the right first steps toward successful self-employment.\n\n \n\nRegister here: https://us02web.zoom.us/webinar/register/WN_qpx4cydkSuuNx43wcsaquA?#new_tab/\n\n \n\nThe decision to start your own business can be both exciting and daunting. Work for Yourself@50+ breaks the choices down for older adults in an approachable way through five steps:\n\n \n\n1. A careful consideration of the potential benefits and risks of working for yourself\n\n2. Exercises to help develop the self-employment idea\n\n3. A realistic overview of what it takes to pursue a self-employment opportunity\n\n4. Guidance to help avoid pitfalls and scams\n\n5. Ways to find trustworthy support and services\n\n \n\nThis workshop is in partnership with Shasta Public Libraries.
X-ALT-DESC;FMTTYPE=text/html:<p>Work for Yourself@50+ is a workshop to help you gain the knowledge\, support\, and resources you need to make informed decisions about working for yourself and take the right first steps toward successful self-employment.</p>\n\n<p>&nbsp\;</p>\n\n<p>Register here:&nbsp\;<a class="_e75a791d-denali-editor-page-rtfLink" href="https://us02web.zoom.us/webinar/register/WN_qpx4cydkSuuNx43wcsaquA?#new_tab/" style="color: rgb(14\, 16\, 26)\; background: transparent\; margin-top:0pt\; margin-bottom:0pt\;\; color: #4a6ee0\;" target="_blank">https://us02web.zoom.us/webinar/register/WN_qpx4cydkSuuNx43wcsaquA?#new_tab/</a></p>\n\n<p>&nbsp\;</p>\n\n<p>The decision to start your own business can be both exciting and daunting. Work for Yourself@50+ breaks the choices down for older adults in an approachable way through five steps:</p>\n\n<p>&nbsp\;</p>\n\n<p>1. A careful consideration of the potential benefits and risks of working for yourself</p>\n\n<p>2. Exercises to help develop the self-employment idea</p>\n\n<p>3. A realistic overview of what it takes to pursue a self-employment opportunity</p>\n\n<p>4. Guidance to help avoid pitfalls and scams</p>\n\n<p>5. Ways to find trustworthy support and services</p>\n\n<p>&nbsp\;</p>\n\n<p>This workshop is in partnership with Shasta Public Libraries.</p>\n
LOCATION:Online Webinar by The Women's Business Center at JEDI
UID:e.3627.1236
SEQUENCE:3
DTSTAMP:20260421T151413Z
URL:http://reddingchamber.chambermaster.com/events/details/work-for-yourself-at-50-1236
END:VEVENT

END:VCALENDAR
