BEGIN:VCALENDAR
VERSION:2.0
PRODID:-//ChamberMaster//Event Calendar 2.0//EN
METHOD:PUBLISH
X-PUBLISHED-TTL:P3D
REFRESH-INTERVAL:P3D
CALSCALE:GREGORIAN
BEGIN:VEVENT
DTSTART:20190216T230000Z
DTEND:20190217T010000Z
X-MICROSOFT-CDO-ALLDAYEVENT:FALSE
SUMMARY:Winemaker's Dinner
DESCRIPTION:Trinity River Vineyards and Strawhouse Resorts pair up to bring you a fabulous menu and wine pairing.  Come enjoy a six-course dinner menu paired with delicious Trinity River Wines at the intimate setting of Strawhouse Resorts on the gorgeous Trinity River.  $55/person or $100/couple.
X-ALT-DESC;FMTTYPE=text/html:Trinity River Vineyards and Strawhouse Resorts pair up to bring you a fabulous menu and wine pairing.  Come enjoy a six-course dinner menu paired with delicious Trinity River Wines at the intimate setting of Strawhouse Resorts on the gorgeous Trinity River.  $55/person or $100/couple.
LOCATION:Strawhouse Resorts\, 31301 Highway 299\, Big Flat\, CA 96048 20 miles west of Weaverville
UID:e.3627.869
SEQUENCE:3
DTSTAMP:20260425T224047Z
URL:http://reddingchamber.chambermaster.com/events/details/winemaker-s-dinner-01-01-1900-869
END:VEVENT

END:VCALENDAR
