BEGIN:VCALENDAR
VERSION:2.0
PRODID:-//ChamberMaster//Event Calendar 2.0//EN
METHOD:PUBLISH
X-PUBLISHED-TTL:P3D
REFRESH-INTERVAL:P3D
CALSCALE:GREGORIAN
BEGIN:VEVENT
DTSTART:20200915T200000Z
DTEND:20200915T220000Z
X-MICROSOFT-CDO-ALLDAYEVENT:FALSE
SUMMARY:WEBINAR | WRITING A SUCCESSFUL BUSINESS PLAN
DESCRIPTION:Every business\, whether it's a new venture or an established enterprise\, should have a written business plan outlining the who\, what\, why and how of their operations. This workshop will cover the basics of how to write a successful business plan. Topics will include:\n\n\n	Purpose of a written business plan\n	Overview of the key components within the plan\n	How to conduct the market research to make your plan stand out\n	Utilizing business plan templates\n	Diving into the financial section of the plan including financial projections and why you need them
X-ALT-DESC;FMTTYPE=text/html:<p>Every business\, whether it&#39\;s a new venture or an established enterprise\, should have a written business plan outlining the who\, what\, why and how of their operations. This workshop will cover the basics of how to write a successful business plan. Topics will include:</p>\n\n<ul>\n	<li>Purpose of a written business plan</li>\n	<li>Overview of the key components within the plan</li>\n	<li>How to conduct the market research to make your plan stand out</li>\n	<li>Utilizing business plan templates</li>\n	<li>Diving into the financial section of the plan including financial projections and why you need them</li>\n</ul>\n
LOCATION:Online
UID:e.3627.1306
SEQUENCE:3
DTSTAMP:20260420T144744Z
URL:http://reddingchamber.chambermaster.com/events/details/webinar-writing-a-successful-business-plan-1306
END:VEVENT

END:VCALENDAR
