BEGIN:VCALENDAR
VERSION:2.0
PRODID:-//ChamberMaster//Event Calendar 2.0//EN
METHOD:PUBLISH
X-PUBLISHED-TTL:P3D
REFRESH-INTERVAL:P3D
CALSCALE:GREGORIAN
BEGIN:VEVENT
DTSTART:20200617T003000Z
DTEND:20200617T020000Z
X-MICROSOFT-CDO-ALLDAYEVENT:FALSE
SUMMARY:Webinar | Shopify Basics: Launching an E-Commerce Website
DESCRIPTION:In this webinar\, we will walk through the technical aspects of Shopify. We'll cover every thing from setting up your shop to understanding your Shopify account\, from managing your orders to implementing new products. We're giving you all the tools you need to get your Shopify site online DIY-style.\n\n \n\nInstructor: Megan Spaulding\, SBDC advisor\n\nMegan has helped a multitude of businesses in many shapes and sizes position themselves for success. Her consulting specialities include brand messaging\, market research\, go-to-market strategy\, social media marketing & advertising\, tech startups\, pitch consulting\, app development\, and more.
X-ALT-DESC;FMTTYPE=text/html:<p>In this webinar\, we will walk through the technical aspects of Shopify. We&#39\;ll cover every thing from setting up your shop to understanding your Shopify account\, from managing your orders to implementing new products. We&#39\;re giving you all the tools you need to get your Shopify site online DIY-style.</p>\n\n<p>&nbsp\;</p>\n\n<p>Instructor: Megan Spaulding\, SBDC advisor</p>\n\n<p>Megan has helped a multitude of businesses in many shapes and sizes position themselves for success. Her consulting specialities include brand messaging\, market research\, go-to-market strategy\, social media marketing &amp\; advertising\, tech startups\, pitch consulting\, app development\, and more.&nbsp\;</p>\n
LOCATION:Online
UID:e.3627.1225
SEQUENCE:3
DTSTAMP:20260420T234216Z
URL:http://reddingchamber.chambermaster.com/events/details/webinar-shopify-basics-launching-an-e-commerce-website-1225
END:VEVENT

END:VCALENDAR
