BEGIN:VCALENDAR
VERSION:2.0
PRODID:-//ChamberMaster//Event Calendar 2.0//EN
METHOD:PUBLISH
X-PUBLISHED-TTL:P3D
REFRESH-INTERVAL:P3D
CALSCALE:GREGORIAN
BEGIN:VEVENT
DTSTART:20200129T180000Z
DTEND:20200129T190000Z
X-MICROSOFT-CDO-ALLDAYEVENT:FALSE
SUMMARY:/Webinar/ Optimizing Success with NAICS Codes
DESCRIPTION:The North American Industry Classification System (NAICS) codes define businesses based on the industry in which they are primarily engaged. Therefore\, when searching for contracting opportunities related to your product/service\, it is imperative to have the correct NAICS code. The Small Business Administration (SBA) uses NAICS codes to determine size standards. If you want to be classified as a small business\, your companyâ€™s revenues or number of employees must be under a certain amount depending on your industry and NAICS codes. In this webinar\, we will explore the NAICS system and the relationship to the small business size standard set by the SBA.
X-ALT-DESC;FMTTYPE=text/html:The North American Industry Classification System (NAICS) codes define businesses based on the industry in which they are primarily engaged. Therefore\, when searching for contracting opportunities related to your product/service\, it is imperative to have the correct NAICS code. The Small Business Administration (SBA) uses NAICS codes to determine size standards. If you want to be classified as a small business\, your companyâ€™s revenues or number of employees must be under a certain amount depending on your industry and NAICS codes. In this webinar\, we will explore the NAICS system and the relationship to the small business size standard set by the SBA.
LOCATION:online webinar
UID:e.3627.1080
SEQUENCE:3
DTSTAMP:20260420T180908Z
URL:http://reddingchamber.chambermaster.com/events/details/webinar-optimizing-success-with-naics-codes-01-01-1900-1080
END:VEVENT

END:VCALENDAR
