BEGIN:VCALENDAR
VERSION:2.0
PRODID:-//ChamberMaster//Event Calendar 2.0//EN
METHOD:PUBLISH
X-PUBLISHED-TTL:P3D
REFRESH-INTERVAL:P3D
CALSCALE:GREGORIAN
BEGIN:VEVENT
DTSTART:20200508T003000Z
DTEND:20200508T020000Z
X-MICROSOFT-CDO-ALLDAYEVENT:FALSE
SUMMARY:WEBINAR | HOW SHARP IS YOUR COMPETITIVE EDGE?
DESCRIPTION:As businesses begin to think about updating their business plans and identify changes that they may want to make in their operational and marketing models\, accurately identifying and analyzing your business' target market and its relative competition should be part of the process.  Knowing about your competitors will help you to communicate with your target audience\, distinguish your business from competitors\, improve your processes\, and navigate challenges in your market as you move through the pandemic and plan for rebooting in the near future.
X-ALT-DESC;FMTTYPE=text/html:As businesses begin to think about updating their business plans and identify changes that they may want to make in their operational and marketing models\, accurately identifying and analyzing your business&rsquo\; target market and its relative competition should be part of the process.&nbsp\; Knowing about your competitors will help you to communicate with your target audience\, distinguish your business from competitors\, improve your processes\, and navigate challenges in your market as you move through the pandemic and plan for rebooting in the near future.
LOCATION:Online Register here: https://www.sbdcsc.org/events/webinar-how-sharp-your-competitive-edge
UID:e.3627.1171
SEQUENCE:3
DTSTAMP:20260422T030813Z
URL:http://reddingchamber.chambermaster.com/events/details/webinar-how-sharp-is-your-competitive-edge-1171
END:VEVENT

END:VCALENDAR
