BEGIN:VCALENDAR
VERSION:2.0
PRODID:-//ChamberMaster//Event Calendar 2.0//EN
METHOD:PUBLISH
X-PUBLISHED-TTL:P3D
REFRESH-INTERVAL:P3D
CALSCALE:GREGORIAN
BEGIN:VEVENT
DTSTART:20200522T003000Z
DTEND:20200522T020000Z
X-MICROSOFT-CDO-ALLDAYEVENT:FALSE
SUMMARY:Webinar | Comparing website platforms: WordPress v SquareSpace
DESCRIPTION:In this presentation\, we will compare and contrast two of the most popular website creation platforms\, WordPress and Squarespace. Join us live as we unpack several of their key differentiators\, with an aim to help you identify which may be the best choice for your organization.
X-ALT-DESC;FMTTYPE=text/html:In this presentation\, we will compare and contrast two of the most popular website creation platforms\, WordPress and Squarespace. Join us live as we unpack several of their key differentiators\, with an aim to help you identify which may be the best choice for your organization.
LOCATION:Online
UID:e.3627.1213
SEQUENCE:3
DTSTAMP:20260419T184422Z
URL:http://reddingchamber.chambermaster.com/events/details/webinar-comparing-website-platforms-wordpress-v-squarespace-1213
END:VEVENT

END:VCALENDAR
