BEGIN:VCALENDAR
VERSION:2.0
PRODID:-//ChamberMaster//Event Calendar 2.0//EN
METHOD:PUBLISH
X-PUBLISHED-TTL:P3D
REFRESH-INTERVAL:P3D
CALSCALE:GREGORIAN
BEGIN:VEVENT
DTSTART:20200716T170000Z
DTEND:20200716T183000Z
X-MICROSOFT-CDO-ALLDAYEVENT:FALSE
SUMMARY:Webinar | Are You Ready for Amazon?
DESCRIPTION:Join Bobby Chang\, Norcal SBDC Restaurant Program Advisor and Amazon Expert\, to learn if you are ready to begin selling on Amazon. Bobby will discuss the 4 key areas of evaluation that include: ~customer ~product offering ~outreach ~operations Join us to understand the process and learn how to prepare for selling on Amazon.
X-ALT-DESC;FMTTYPE=text/html:<span style="background-color:rgb(255\, 255\, 255)\; color:rgb(102\, 102\, 102)\; font-family:open sans\,sans-serif\; font-size:16px">Join Bobby Chang\, Norcal SBDC Restaurant Program Advisor and Amazon Expert\, to learn if you are ready to begin selling on Amazon. Bobby will discuss the 4 key areas of evaluation that include: ~customer ~product offering ~outreach ~operations Join us to understand the process and learn how to prepare for selling on Amazon.</span>
LOCATION:Online
UID:e.3627.1270
SEQUENCE:3
DTSTAMP:20260424T055918Z
URL:http://reddingchamber.chambermaster.com/events/details/webinar-are-you-ready-for-amazon-1270
END:VEVENT

END:VCALENDAR
