BEGIN:VCALENDAR
VERSION:2.0
PRODID:-//ChamberMaster//Event Calendar 2.0//EN
METHOD:PUBLISH
X-PUBLISHED-TTL:P3D
REFRESH-INTERVAL:P3D
CALSCALE:GREGORIAN
BEGIN:VEVENT
DTSTART:20200602T180000Z
DTEND:20200602T190000Z
X-MICROSOFT-CDO-ALLDAYEVENT:FALSE
SUMMARY:The Great Reset
DESCRIPTION:Online Event - The Great Reset session dates will be June 2nd\, June 16th\, June 30th\, July 14th\, July 28th\, August 11th\, August 25th\, and September 8th. \n\nEach in-person "virtual" session will be from 11 am - 12 pm\, PST. \n\nThroughout this 90-day program from the Women's Business Center at JEDI you will have the opportunity to transform yourself and your business into the expanded vision of yourself and your life. (Even if you don't know what that vision is right now.) \n\nIn The Great Reset we are celebrating the power of women entrepreneurs and giving them the resources to allow those powers to shine. \n\nWhether you are having to reshape your business because of the COVID pandemic or you were already feeling like you wanted to operate with more intentionality and purpose\, this program is for you.\n\nApply Here: https://www.jedionline.org/the-great-reset/
X-ALT-DESC;FMTTYPE=text/html:<p>Online Event - The Great Reset session dates will be June 2nd\, June 16th\, June 30th\, July 14th\, July 28th\, August 11th\, August 25th\, and September 8th.&nbsp\;</p>\n\n<p>Each in-person &quot\;virtual&quot\; session will be from 11 am - 12 pm\, PST.&nbsp\;</p>\n\n<p>Throughout this 90-day program from the Women&#39\;s Business Center at JEDI you will have the opportunity to transform yourself and your business into the expanded vision of yourself and your life. (Even if you don&#39\;t know what that vision is right now.)&nbsp\;</p>\n\n<p>In The Great Reset we are celebrating the power of women entrepreneurs and giving them the resources to allow those powers to shine.&nbsp\;</p>\n\n<p>Whether you are having to reshape your business because of the COVID pandemic or you were already feeling like you wanted to operate with more intentionality and purpose\, this program is for you.</p>\n\n<p>Apply Here:&nbsp\;<a class="_e75a791d-denali-editor-page-rtfLink" href="https://www.jedionline.org/the-great-reset/" style="color: rgb(14\, 16\, 26)\; background: transparent\; margin-top:0pt\; margin-bottom:0pt\;\; color: #4a6ee0\;" target="_blank">https://www.jedionline.org/the-great-reset/</a></p>\n
LOCATION:Online event from the Women's Business Center at JEDI.
UID:e.3627.1227
SEQUENCE:3
DTSTAMP:20260421T192837Z
URL:http://reddingchamber.chambermaster.com/events/details/the-great-reset-1227
END:VEVENT

END:VCALENDAR
