BEGIN:VCALENDAR
VERSION:2.0
PRODID:-//ChamberMaster//Event Calendar 2.0//EN
METHOD:PUBLISH
X-PUBLISHED-TTL:P3D
REFRESH-INTERVAL:P3D
CALSCALE:GREGORIAN
BEGIN:VEVENT
DTSTART:20191109T023000Z
DTEND:20191111T050000Z
X-MICROSOFT-CDO-ALLDAYEVENT:FALSE
SUMMARY:Startup Weekend
DESCRIPTION:Your idea in 54 hours\n\nJoin us on November 8-10\, 2019 for a hands-on startup experience where you can pitch ideas\, join a team\, and build a company in 54 hours.\n\n\n\nWhether you are looking for feedback on an idea\, a co-founder\, specific skill sets\, or a team to help you execute\, Startup Weekend Redding is the perfect environment in which to test your idea and take the first steps towards launching your own startup.\n\n\n\nStartup Weekends are 54-hour events designed to provide superior experiential education for all entrepreneurs. Beginning with Friday night pitches and continuing through brainstorming\, business plan development\, and basic prototype creation\, Startup Weekends culminate in Sunday night demos and presentations. Participants create working startups during the event and are able to collaborate with like-minded individuals outside of their daily networks. All teams hear talks by industry leaders and receive valuable feedback from local entrepreneurs\, and subject matter experts. The weekend is centered around action\, innovation\, and education.\n\n\n\nREGISTER HERE today and be inspired to take action. It can change your life.\n\n\n\nFAQ\n\nDo I need to have or bring an idea?\n\nNo! But\, many people come and realize that they already have an idea or come up with one on the spot!\n\n\n\nWhat skills do I need to come?\n\nNone! The most important thing to bring with you is curiosity and an eagerness to learn!\n\n\n\nIs Startup Weekend right for me?\n\nIf you are interested or curious in entrepreneurship or business\, the answer is yes!
X-ALT-DESC;FMTTYPE=text/html:<p style=/text-align: center\;/><span style=/color:#006400\;/><strong><span style=/font-size:20px\;/><span style=/font-family:Tahoma\,Geneva\,sans-serif\;/>Your idea in 54 hours</span></span></strong></span><br />\n<span style=/font-size:14px\;/><span style=/font-family:Tahoma\,Geneva\,sans-serif\;/>Join us on November 8-10\, 2019 for a hands-on startup experience where you can pitch ideas\, join a team\, and build a company in 54 hours.<br />\n<br />\nWhether you are looking for feedback on an idea\, a co-founder\, specific skill sets\, or a team to help you execute\, Startup Weekend Redding is the perfect environment in which to test your idea and take the first steps towards launching your own startup.<br />\n<br />\n<strong>Startup Weekends are 54-hour events designed to provide superior experiential education for all entrepreneurs.</strong> Beginning with Friday night pitches and continuing through brainstorming\, business plan development\, and basic prototype creation\, Startup Weekends culminate in Sunday night demos and presentations. <strong>Participants create working startups during the event and are able to collaborate with like-minded individuals outside of their daily networks.</strong> All teams hear talks by industry leaders and receive valuable feedback from local entrepreneurs\, and subject matter experts. <strong>The weekend is centered around action\, innovation\, and education.</strong><br />\n<br />\n<a href=/https://www.eventbrite.com/e/startup-weekend-redding-1119-tickets-70159008483?fbclid=IwAR142gSvo5cZQO6tqFBwJXV1RXPZsfU-LDH8eG6UdJku1JmL_Vev24JbL_8/>REGISTER HERE</a> today and be inspired to take action. It can change your life.</span></span><br />\n<br />\n<strong><span style=/font-size:16px\;/><span style=/font-family:Tahoma\,Geneva\,sans-serif\;/>FAQ</span></span></strong><br />\n<span style=/font-size:14px\;/><span style=/font-family:Tahoma\,Geneva\,sans-serif\;/>Do I need to have or bring an idea?<br />\nNo! But\, many people come and realize that they already have an idea or come up with one on the spot!<br />\n<br />\nWhat skills do I need to come?<br />\nNone! The most important thing to bring with you is curiosity and an eagerness to learn!<br />\n<br />\nIs Startup Weekend right for me?<br />\nIf you are interested or curious in entrepreneurship or business\, the answer is yes!</span></span></p>\n
LOCATION:The Commons Event Center 4712 Mountain Lakes Blvd.\, Redding\, CA 96003
UID:e.3627.1057
SEQUENCE:3
DTSTAMP:20260426T040919Z
URL:http://reddingchamber.chambermaster.com/events/details/startup-weekend-01-01-1900-1057
END:VEVENT

END:VCALENDAR
