BEGIN:VCALENDAR
VERSION:2.0
PRODID:-//ChamberMaster//Event Calendar 2.0//EN
METHOD:PUBLISH
X-PUBLISHED-TTL:P3D
REFRESH-INTERVAL:P3D
CALSCALE:GREGORIAN
BEGIN:VEVENT
DTSTART:20200925T003000Z
DTEND:20200925T023000Z
X-MICROSOFT-CDO-ALLDAYEVENT:FALSE
SUMMARY:QuickBooks Desktop Beginners Series
DESCRIPTION:Join us for one or all of the following webinar sessions where you will learn the basics of using QuickBooks Desktop for PC. From setting up your account for the first time to learning how to run reports. \n\n\n\nSession 1 - Thursday 24th\, 5:30pm-7:30pm - Accounting 101 & Getting started with QuickBooks Desktop\n\nTopics will cover the basics of accounting\, which QuickBooks version is best for your business\, and setting up your company and chart of accounts in QuickBooks Desktop.\n\n\n\nSession 2 - Friday 25th\, 5:30pm-7:30pm - Setting up items and Creating Forms in QuickBooks Desktop\n\nTopics will cover: Setting up items \, using purchasing orders\, customizing invoices and creating other forms.\n\n\n\nSession 3 - Saturday 26th\, 10:00am-12:00pm - Accounts Receivables     \n\nTopics will cover: Setting up online bank feeds\, creating estimates and invoices\, sales receipts\, receiving payments\, and managing accounts payable reports. \n\n\n\nSession 4 - Saturday 26th\, 1:00pm-3:00pm - Accounts Payable\, Banking Reconciliations\, and Reports\n\nTopics will cover: Syncing bank accounts\, undeposited funds\, entering expenses and bills\, paying bills\, managing reports\, Profit & Loss sheet\, and Balance Sheet. \n\n\n\nInstructor: Rebecca Lehman - Certified QuickBooks Pro & SBDC Advisor
X-ALT-DESC;FMTTYPE=text/html:Join us for one or all of the following webinar sessions where you will learn the basics of using QuickBooks Desktop for PC. From setting up your account for the first time to learning how to run reports.&nbsp\;<br />\n<br />\n<strong>Session 1 - Thursday 24th\, 5:30pm-7:30pm</strong> - Accounting 101 &amp\; Getting started with QuickBooks Desktop<br />\nTopics will cover the basics of accounting\, which QuickBooks version is best for your business\, and setting up your company and chart of accounts in QuickBooks Desktop.<br />\n<br />\n<strong>Session 2 - Friday 25th\, 5:30pm-7:30pm</strong> - Setting up items and Creating Forms in QuickBooks Desktop<br />\nTopics will cover: Setting up items \, using purchasing orders\, customizing invoices and creating other forms.<br />\n<br />\n<strong>Session 3 - Saturday 26th\, 10:00am-12:00pm</strong> - Accounts Receivables&nbsp\; &nbsp\; &nbsp\;<br />\nTopics will cover: Setting up online bank feeds\, creating estimates and invoices\, sales receipts\, receiving payments\, and managing accounts payable reports.&nbsp\;<br />\n<br />\n<strong>Session 4 - Saturday 26th\, 1:00pm-3:00pm</strong> - Accounts Payable\, Banking Reconciliations\, and Reports<br />\nTopics will cover: Syncing bank accounts\, undeposited funds\, entering expenses and bills\, paying bills\, managing reports\, Profit &amp\; Loss sheet\, and Balance Sheet.&nbsp\;<br />\n<br />\nInstructor: Rebecca Lehman - Certified QuickBooks Pro &amp\; SBDC Advisor
LOCATION:Online
UID:e.3627.1336
SEQUENCE:3
DTSTAMP:20260423T042746Z
URL:http://reddingchamber.chambermaster.com/events/details/quickbooks-desktop-beginners-series-1336
END:VEVENT

END:VCALENDAR
