BEGIN:VCALENDAR
VERSION:2.0
PRODID:-//ChamberMaster//Event Calendar 2.0//EN
METHOD:PUBLISH
X-PUBLISHED-TTL:P3D
REFRESH-INTERVAL:P3D
CALSCALE:GREGORIAN
BEGIN:VEVENT
DTSTART;VALUE=DATE:20210204
DTEND;VALUE=DATE:20210205
TRANSP:TRANSPARENT
X-MICROSOFT-CDO-ALLDAYEVENT:TRUE
SUMMARY:Poetry for Mindfulness Workshop
DESCRIPTION:Poetry has a powerful way of helping us to focus on what is essential\, in this moment. It can help us connect with wonder to ourselves\, to others\, and to our vision.  Clarifying next steps when there are so many challenges in front of us can be difficult. Sometimes we just need the space\, quiet\, and the right questions to explore our thoughts and ideas.\n\n \n\nYou need no previous experience with poetry to join- or benefit- the workshop. Playing with words is a wonderful way to experience mindfulness and\, often\, to gain clarity on the workings of your inner world. We may share what we write\, but there is no critique\, advice\, or suggestions- just a space to write and read if you choose. \n\n \n\nWe'll meet on Zoom on Thursday\, February 4th\, from 4 to 6 p.m.  You can register here- the cost of the workshop is $26. Bring your favorite writing tools and paper/journal and I'll bring the rest. I am looking forward to sharing this time with you.
X-ALT-DESC;FMTTYPE=text/html:<span style="color:#5e5e5e"><span style="font-family:arial\,sans-serif">Poetry has a powerful way of helping us to focus on what is essential\, in this moment. It can help us connect with wonder to ourselves\, to others\, and to our vision.&nbsp\; Clarifying next steps when there are so many challenges in front of us can be difficult. Sometimes we just need the space\, quiet\, and the right questions to explore our thoughts and ideas.</span></span><br />\n&nbsp\;<br />\n<span style="color:#5e5e5e"><span style="font-family:arial\,sans-serif">You need no previous experience with poetry to join- or benefit- the workshop. Playing with words is a wonderful way to experience mindfulness and\, often\, to gain clarity on the workings of your inner world. We may share what we write\, but there is no critique\, advice\, or suggestions- just a space to write and read if you choose.&nbsp\;</span></span><br />\n&nbsp\;<br />\n<span style="color:#5e5e5e"><span style="font-family:arial\,sans-serif">We&#39\;ll meet on Zoom on Thursday\, February 4<sup>th</sup>\, from 4 to 6 p.m.&nbsp\; You can register&nbsp\;<a href="https://zoom.us/meeting/register/tJcuduChpjgiGd3-IdeQXQfhwjCnNCbdXL3J" style="color:rgb(5\, 99\, 193)\;">here</a>- the cost of the workshop is $26. Bring your favorite writing tools and paper/journal and I&#39\;ll bring the rest. I am looking forward to sharing this time with you.</span></span>
LOCATION:Via Zoom register here!
UID:e.3627.1597
SEQUENCE:3
DTSTAMP:20260422T023850Z
URL:http://reddingchamber.chambermaster.com/events/details/poetry-for-mindfulness-workshop-1597
END:VEVENT

END:VCALENDAR
