BEGIN:VCALENDAR
VERSION:2.0
PRODID:-//ChamberMaster//Event Calendar 2.0//EN
METHOD:PUBLISH
X-PUBLISHED-TTL:P3D
REFRESH-INTERVAL:P3D
CALSCALE:GREGORIAN
BEGIN:VEVENT
DTSTART:20190524T000000Z
DTEND:20190524T030000Z
X-MICROSOFT-CDO-ALLDAYEVENT:FALSE
SUMMARY:Pints With Purpose
DESCRIPTION:For the fourth year in a row we are hosting our Pints With Purpose series: fundraising events during the month of May to highlight several local North State charities.\nFor our final event in the series we will host KIXE-TV.\n\nLive music provided by Marc Cooper\, a professional blues guitarist and front man for Coop Deville. He has played all over the world\, including gigs with Joe Walsh and Tommy Emmanuel.\n\n$1 from every pint sold on Thursday May 23rd will go back into KIXE-TV.\n\nCome out\, have a pint\, enjoy some live music & raise funds for a local organization pushing our community forward!
X-ALT-DESC;FMTTYPE=text/html:For the fourth year in a row we are hosting our Pints With Purpose series: fundraising events during the month of May to highlight several local North State charities.\nFor our final event in the series we will host KIXE-TV.\n\nLive music provided by Marc Cooper\, a professional blues guitarist and front man for Coop Deville. He has played all over the world\, including gigs with Joe Walsh and Tommy Emmanuel.\n\n$1 from every pint sold on Thursday May 23rd will go back into KIXE-TV.\n\nCome out\, have a pint\, enjoy some live music & raise funds for a local organization pushing our community forward!\n\n
LOCATION:Wildcard Brewing Co. Tied House
UID:e.3627.945
SEQUENCE:3
DTSTAMP:20260424T054014Z
URL:http://reddingchamber.chambermaster.com/events/details/pints-with-purpose-01-01-1900-945
END:VEVENT

END:VCALENDAR
