BEGIN:VCALENDAR
VERSION:2.0
PRODID:-//ChamberMaster//Event Calendar 2.0//EN
METHOD:PUBLISH
X-PUBLISHED-TTL:P3D
REFRESH-INTERVAL:P3D
CALSCALE:GREGORIAN
BEGIN:VEVENT
DTSTART:20190510T000000Z
DTEND:20190510T030000Z
X-MICROSOFT-CDO-ALLDAYEVENT:FALSE
SUMMARY:Pints With Purpose
DESCRIPTION:For the fourth year in a row we are hosting our Pints With Purpose series: fundraising events during the month of May to highlight several local North State charities.\nThe series continues on May 9th with Haven Humane Society. \n\nMeet a furry friend! Haven Humane will bring dogs for adoption into the tap room to socialize with guests (and maybe find their forever home).\n\n$1 from every pint sold will go back into Haven Humane Society.\n\nCome out\, enjoy a pint\, meet a four-legged friend & raise funds for a local organization pushing our community forward!
X-ALT-DESC;FMTTYPE=text/html:For the fourth year in a row we are hosting our Pints With Purpose series: fundraising events during the month of May to highlight several local North State charities.\nThe series continues on May 9th with Haven Humane Society. \n\nMeet a furry friend! Haven Humane will bring dogs for adoption into the tap room to socialize with guests (and maybe find their forever home).\n\n$1 from every pint sold will go back into Haven Humane Society.\n\nCome out\, enjoy a pint\, meet a four-legged friend & raise funds for a local organization pushing our community forward!\n\n
LOCATION:Wildcard Brewing Co. Tied House
UID:e.3627.943
SEQUENCE:3
DTSTAMP:20260424T053919Z
URL:http://reddingchamber.chambermaster.com/events/details/pints-with-purpose-01-01-1900-943
END:VEVENT

END:VCALENDAR
