BEGIN:VCALENDAR
VERSION:2.0
PRODID:-//ChamberMaster//Event Calendar 2.0//EN
METHOD:PUBLISH
X-PUBLISHED-TTL:P3D
REFRESH-INTERVAL:P3D
CALSCALE:GREGORIAN
BEGIN:VEVENT
DTSTART;VALUE=DATE:20201002
DTEND;VALUE=DATE:20201011
TRANSP:TRANSPARENT
X-MICROSOFT-CDO-ALLDAYEVENT:TRUE
SUMMARY:Join Walktober Walking Challenge!
DESCRIPTION:Walktober 2020 is here! Join a team\, be active\, and compete for prizes\, as you WALK your way through October like you're walking through 2020\; One step at a time.  \n\nThere are two ways to join:\n\n\n	Become a team captain (and get a cool pair of socks!)\, wrangle up some walking friends\, and compete to win prizes as the fearless leader. Or\;\n	Join a team that already has a captain and walk your socks off in a competitive\, but not super competitive\, but also fun walking challenge.\n	Visit healthyshastawalks.org for complete info on signing up!
X-ALT-DESC;FMTTYPE=text/html:<p>Walktober 2020 is here! Join a team\, be active\, and compete for prizes\, as you WALK your way through October like you&rsquo\;re walking through 2020\; One step at a time.&nbsp\;&nbsp\;</p>\n\n<p>There are two ways to join:</p>\n\n<ol>\n	<li>Become a team captain (and get a cool pair of socks!)\, wrangle up some walking friends\, and compete to win prizes as the fearless leader. Or\;</li>\n	<li>Join a team that already has a captain and walk your socks off in a competitive\, but not super competitive\, but also fun walking challenge.</li>\n	<li>Visit healthyshastawalks.org for complete info on signing up!</li>\n</ol>\n
LOCATION:Shasta County
UID:e.3627.1346
SEQUENCE:3
DTSTAMP:20260423T063127Z
URL:http://reddingchamber.chambermaster.com/events/details/join-walktober-walking-challenge-1346
END:VEVENT

END:VCALENDAR
