BEGIN:VCALENDAR
VERSION:2.0
PRODID:-//ChamberMaster//Event Calendar 2.0//EN
METHOD:PUBLISH
X-PUBLISHED-TTL:P3D
REFRESH-INTERVAL:P3D
CALSCALE:GREGORIAN
BEGIN:VEVENT
DTSTART:20181108T210000Z
DTEND:20181109T000000Z
X-MICROSOFT-CDO-ALLDAYEVENT:FALSE
SUMMARY:I-9 Completion Training and E-Verify Information
DESCRIPTION:Federal law requires that every employer who recruits\, refers for a fee\, or hires an individual for employment in the U.S. to complete the Form I-9\, Employment Eligibility Verification. The Form I-9\, will help you verify your employeeâ€™s identity and employment authorization to work in the U.S. Employers are required to complete the most up-to-date form.\n\nDuring this presentation a management and program analyst from the U.S. Citizenship and Immigration Services (USCIS) will review the Form I-9 process\, highlight the changes to the form\, demonstrate how to complete each section\, and address retention and storage. Also to be covered: how the E-Verify program works\, itâ€™s the key features\, how to enroll\, employer responsibilities\, program highlights\, a question and answer session\, and how to get more information and assistance.\n\nLearning Objectives:\n\nComplete a Form I-9 correctly for a new employee.\nUnderstand how the rehire and reverification process works.\nAvoid any unfair employment practices with the Form I-9 process.\nUnderstand what E-Verify is and how the program works.
X-ALT-DESC;FMTTYPE=text/html:Federal law requires that every employer who recruits\, refers for a fee\, or hires an individual for employment in the U.S. to complete the Form I-9\, Employment Eligibility Verification. The Form I-9\, will help you verify your employeeâ€™s identity and employment authorization to work in the U.S. Employers are required to complete the most up-to-date form.\n\nDuring this presentation a management and program analyst from the U.S. Citizenship and Immigration Services (USCIS) will review the Form I-9 process\, highlight the changes to the form\, demonstrate how to complete each section\, and address retention and storage. Also to be covered: how the E-Verify program works\, itâ€™s the key features\, how to enroll\, employer responsibilities\, program highlights\, a question and answer session\, and how to get more information and assistance.\n\nLearning Objectives:\n\nComplete a Form I-9 correctly for a new employee.\nUnderstand how the rehire and reverification process works.\nAvoid any unfair employment practices with the Form I-9 process.\nUnderstand what E-Verify is and how the program works.
LOCATION:Sheraton Hotel at the Sundial Bridge Near the Civic Auditorium
UID:e.3627.802
SEQUENCE:3
DTSTAMP:20260425T235945Z
URL:http://reddingchamber.chambermaster.com/events/details/i-9-completion-training-and-e-verify-information-01-01-1900-802
END:VEVENT

END:VCALENDAR
