BEGIN:VCALENDAR
VERSION:2.0
PRODID:-//ChamberMaster//Event Calendar 2.0//EN
METHOD:PUBLISH
X-PUBLISHED-TTL:P3D
REFRESH-INTERVAL:P3D
CALSCALE:GREGORIAN
BEGIN:VEVENT
DTSTART:20190116T200000Z
DTEND:20190116T213000Z
X-MICROSOFT-CDO-ALLDAYEVENT:FALSE
SUMMARY:Handle your Workers' Comp Like a Pro
DESCRIPTION:This workshop will address:\n\n-	Strategies for essential employer responsibilities when a claim arises.\n\n-	The difference between handling your workers compensation claims directly with your insurance company	versus allowing a claims professional to advocate on your behalf.\n\n-	What best practices to expect from your workers compensation broker.\n\n-	Frequently overlooked underwriting considerations that will impact your premium.\n\n-	How to evaluate your broker to ensure they are looking out for your best interests.
X-ALT-DESC;FMTTYPE=text/html:This workshop will address:\n\n-	Strategies for essential employer responsibilities when a claim arises.\n\n-	The difference between handling your workers compensation claims directly with your insurance company	versus allowing a claims professional to advocate on your behalf.\n\n-	What best practices to expect from your workers compensation broker.\n\n-	Frequently overlooked underwriting considerations that will impact your premium.\n\n-	How to evaluate your broker to ensure they are looking out for your best interests.
LOCATION:Shasta Builders Exchange 5800 Airport Drive Redding\, CA 96002
UID:e.3627.858
SEQUENCE:3
DTSTAMP:20260426T035626Z
URL:http://reddingchamber.chambermaster.com/events/details/handle-your-workers-comp-like-a-pro-01-01-1900-858
END:VEVENT

END:VCALENDAR
