BEGIN:VCALENDAR
VERSION:2.0
PRODID:-//ChamberMaster//Event Calendar 2.0//EN
METHOD:PUBLISH
X-PUBLISHED-TTL:P3D
REFRESH-INTERVAL:P3D
CALSCALE:GREGORIAN
BEGIN:VEVENT
DTSTART:20210729T150000Z
DTEND:20210729T150000Z
X-MICROSOFT-CDO-ALLDAYEVENT:FALSE
SUMMARY:Greeters with LegalShield
DESCRIPTION:Introduce yourself and your business and connect with your fellow Chamber members at Redding Chamber Greeters! We are very pleased to be resuming our in-person weekly networking meeting on Thursday morning from 8-9 am. We will have a different host business each week at their location. Please register in advance as capacity is limited
X-ALT-DESC;FMTTYPE=text/html:<p dir="ltr" style="line-height:1.38\;margin-top:0pt\;margin-bottom:0pt\;"><span id="docs-internal-guid-9af118ed-7fff-a4cc-b1ba-b19119f7ebea"><span style="font-size: 10.5pt\; font-family: Verdana\; font-variant-numeric: normal\; font-variant-east-asian: normal\; vertical-align: baseline\; white-space: pre-wrap\;">Introduce yourself and your business and connect with your fellow Chamber members at Redding Chamber Greeters! We are very pleased to be resuming our in-person weekly networking meeting on Thursday morning from 8-9 am. We will have a different host business each week at their location. Please register in advance as capacity is limited</span></span></p>\n
LOCATION:Venture Hub 777 Auditorium Drive
UID:e.3627.1660
SEQUENCE:3
DTSTAMP:20260421T214310Z
URL:http://reddingchamber.chambermaster.com/events/details/greeters-with-legalshield-1660
END:VEVENT

END:VCALENDAR
