BEGIN:VCALENDAR
VERSION:2.0
PRODID:-//ChamberMaster//Event Calendar 2.0//EN
METHOD:PUBLISH
X-PUBLISHED-TTL:P3D
REFRESH-INTERVAL:P3D
CALSCALE:GREGORIAN
BEGIN:VEVENT
DTSTART:20200428T173000Z
DTEND:20200428T183000Z
X-MICROSOFT-CDO-ALLDAYEVENT:FALSE
SUMMARY:Effective Communication Strategies Online Education Program
DESCRIPTION:Teaches caregivers to decode verbal and behavioral communication by someone with Alzheimer's and other dementias. Participants leave with strategies for meaningful connection with people in early\, middle and late stage dementia. To register\, call 1-800-272-3900 or visit alz.org/crf
X-ALT-DESC;FMTTYPE=text/html:<div><span style="color:rgb(34\, 34\, 34)\; font-family:arial\,helvetica\,sans-serif\; font-size:small">Teaches caregivers to decode verbal and behavioral communication by someone with Alzheimer&rsquo\;s and other dementias. Participants leave with strategies for meaningful connection with people in early\, middle and late stage dementia. To register\, call 1-800-272-3900 or visit&nbsp\;</span><a href="http://alz.org/crf" style="color: rgb(17\, 85\, 204)\; font-family: Arial\, Helvetica\, sans-serif\; font-size: small\;" target="_blank">alz.org/crf</a><span style="color:rgb(34\, 34\, 34)\; font-family:arial\,helvetica\,sans-serif\; font-size:small">&nbsp\;&nbsp\;</span></div>\n
LOCATION:Online classes. To register call 800.272.3900 or visit alz.org/crf
UID:e.3627.1160
SEQUENCE:3
DTSTAMP:20260421T015729Z
URL:http://reddingchamber.chambermaster.com/events/details/effective-communication-strategies-online-education-program-1160
END:VEVENT

END:VCALENDAR
