BEGIN:VCALENDAR
VERSION:2.0
PRODID:-//ChamberMaster//Event Calendar 2.0//EN
METHOD:PUBLISH
X-PUBLISHED-TTL:P3D
REFRESH-INTERVAL:P3D
CALSCALE:GREGORIAN
BEGIN:VEVENT
DTSTART:20190412T093000Z
DTEND:20190412T210000Z
X-MICROSOFT-CDO-ALLDAYEVENT:FALSE
SUMMARY:DBE Certification Workshop - Eureka
DESCRIPTION:The Disadvantaged Business Enterprise (DBE) certification is designed to help small minority and women-owned businesses have a competitive advantage when bidding for government contracts. This certification is particularly advantageous for those interested in doing business with agencies like Caltrans\, BART\, High Speed Rail\, local transit authorities\, and most cities and counties.\n\nJoin us for this free intensive workshop to learn:\n\n-How to become a certified DBE firm\n-How to complete the application\n-What documents are needed\n-Common mistakes with the process\n-Advantages of the DBE certification\n-How the certification can be used as a resource when doing business with the State of California\n\n\nThe afternoon session is designed for those who have a DBE packet ready for review or who have individual questions. Meet with one of our DBE Specialists for one-on-one feedback\, document review and the potential to leave with a packet ready to notarize and submit. Rememberâ€¦bring your printed DBE application/documents for review by one of our specialists!\n\n\nAgenda:\n8:30 am â€'' 9:00 am: Registration\, networking\, sign up for one-on-one appointments\n9:00 am â€'' 11:30 am: DBE Certification Workshop\n11:45 am â€'' 2:00 PM: One-on-one time with DBE Specialists to review your DBE Certification Packet or ask individualized eligibility questions\n\n\nFacilitated by Christina Jones\, Norcal PTAC Sr./LeadProcurement Specialist
X-ALT-DESC;FMTTYPE=text/html:The Disadvantaged Business Enterprise (DBE) certification is designed to help small minority and women-owned businesses have a competitive advantage when bidding for government contracts. This certification is particularly advantageous for those interested in doing business with agencies like Caltrans\, BART\, High Speed Rail\, local transit authorities\, and most cities and counties.\n\nJoin us for this free intensive workshop to learn:\n\n-How to become a certified DBE firm\n-How to complete the application\n-What documents are needed\n-Common mistakes with the process\n-Advantages of the DBE certification\n-How the certification can be used as a resource when doing business with the State of California\n\n\nThe afternoon session is designed for those who have a DBE packet ready for review or who have individual questions. Meet with one of our DBE Specialists for one-on-one feedback\, document review and the potential to leave with a packet ready to notarize and submit. Rememberâ€¦bring your printed DBE application/documents for review by one of our specialists!\n\n\nAgenda:\n8:30 am â€'' 9:00 am: Registration\, networking\, sign up for one-on-one appointments\n9:00 am â€'' 11:30 am: DBE Certification Workshop\n11:45 am â€'' 2:00 PM: One-on-one time with DBE Specialists to review your DBE Certification Packet or ask individualized eligibility questions\n\n\nFacilitated by Christina Jones\, Norcal PTAC Sr./LeadProcurement Specialist
LOCATION:Humboldt Bay Aquatic Center
UID:e.3627.878
SEQUENCE:3
DTSTAMP:20260423T091400Z
URL:http://reddingchamber.chambermaster.com/events/details/dbe-certification-workshop-eureka-01-01-1900-878
END:VEVENT

END:VCALENDAR
