BEGIN:VCALENDAR
VERSION:2.0
PRODID:-//ChamberMaster//Event Calendar 2.0//EN
METHOD:PUBLISH
X-PUBLISHED-TTL:P3D
REFRESH-INTERVAL:P3D
CALSCALE:GREGORIAN
BEGIN:VEVENT
DTSTART:20191005T023000Z
DTEND:20191005T023000Z
X-MICROSOFT-CDO-ALLDAYEVENT:FALSE
SUMMARY:Blade Runner (1982)
DESCRIPTION:Deckard is a retired /Blade Runner/ recalled to duty to /retire/ four replicants who have mutinied on an off-world colony and come to Earth\, where their presence is strictly forbidden.  The star of /RAIDERS OF THE LOST ARK/ and the director of /ALIEN/ take you on a spectacular journey to the savage world of the year 2019!! A sci-fi cult classic. Rated R \n \nDirector:  \nRidley Scott \n\nCast: \nHarrison Ford \nRutger Hauer \nSean Young \nEdward James Olmos \nM. Emmet Walsh \nDaryl Hannah
X-ALT-DESC;FMTTYPE=text/html:Deckard is a retired /Blade Runner/ recalled to duty to /retire/ four replicants who have mutinied on an off-world colony and come to Earth\, where their presence is strictly forbidden.  The star of /RAIDERS OF THE LOST ARK/ and the director of /ALIEN/ take you on a spectacular journey to the savage world of the year 2019!! A sci-fi cult classic. Rated R \n \nDirector:  \nRidley Scott \n\nCast: \nHarrison Ford \nRutger Hauer \nSean Young \nEdward James Olmos \nM. Emmet Walsh \nDaryl Hannah 
LOCATION:Downtown Redding
UID:e.3627.1052
SEQUENCE:3
DTSTAMP:20260423T145921Z
URL:http://reddingchamber.chambermaster.com/events/details/blade-runner-1982-01-01-1900-1052
END:VEVENT

END:VCALENDAR
