BEGIN:VCALENDAR
VERSION:2.0
PRODID:-//ChamberMaster//Event Calendar 2.0//EN
METHOD:PUBLISH
X-PUBLISHED-TTL:P3D
REFRESH-INTERVAL:P3D
CALSCALE:GREGORIAN
BEGIN:VEVENT
DTSTART:20180726T233000Z
DTEND:20181214T014500Z
X-MICROSOFT-CDO-ALLDAYEVENT:FALSE
SUMMARY:Basic Computer Skills
DESCRIPTION:In todayâ€™s technologically oriented business environment\, strong computer skills are essential whether you are looking for a job or starting a business.  Virtually all jobs and businesses utilize computer and mobile phones for marketing\, communication\, sales\, accounting\, scheduling\, and more.\n\nJoin the class and acquire the necessary basic computer skills or strengthen your existing skills\n\nGet effective and time-saving tips and tricks to get computer-based tasks accomplished faster\, better and safer.\n\nLearn which technology is most needed in the 21st Century workplace.\n\nSome topics covered include:\nComputer: whatâ€™s that? (hardware\, software\, OS\, apps\, files etc.)\nApps and files: creating your own / using existing files.\nSaving your work: memory / storage / removable devices (i.e.\, thumb drive)\nKeyboard shortcuts\, settings\, options and user-friendly features\nIntroduction to word processing\, spreadsheets programs\nIntro to Internet concepts / services\nInformation safety / security\nWeb Search\, Social Media and other useful online services.\nThis computer lab will provide individualized instruction in a self-paced environment. Coursework will be specific to participants area of study.\n\nThis beginner course is for individuals who are struggling with basic computer skills\, who would like to become comfortable and effective using a computer in their daily / work lives.\n\nSegal Shaw is a web designer and software engineer with over 12 years of experience creating\, designing\, and maintaining websites. She is passionate about teaching local people to keep up-to-date with computer skills. She helps businesses create and maintain evolving websites\, eCommerce platforms\, security\, and social media technologies in order to be competitive and succeed in the marketplace.\n\nTestimonials:\n\nâ€œThe class (as I understand it) is for anyone who is uncomfortable using computers and could benefit from a gently-paced course. The course will provide basic knowledge and skills\, and progress at a pace and direction suitable for the students.â€\n\nâ€œComputer skills are becoming a necessity and many of us were never offered the opportunity to acquire these skills.  I like sharing my knowledge and support people as they become more comfortable and effective while working with computers.  Computers can be powerful tools in our lives and I want to empower all to use and enjoy them.â€
X-ALT-DESC;FMTTYPE=text/html:In todayâ€™s technologically oriented business environment\, strong computer skills are essential whether you are looking for a job or starting a business.  Virtually all jobs and businesses utilize computer and mobile phones for marketing\, communication\, sales\, accounting\, scheduling\, and more.\n\nJoin the class and acquire the necessary basic computer skills or strengthen your existing skills\n\nGet effective and time-saving tips and tricks to get computer-based tasks accomplished faster\, better and safer.\n\nLearn which technology is most needed in the 21st Century workplace.\n\nSome topics covered include:\nComputer: whatâ€™s that? (hardware\, software\, OS\, apps\, files etc.)\nApps and files: creating your own / using existing files.\nSaving your work: memory / storage / removable devices (i.e.\, thumb drive)\nKeyboard shortcuts\, settings\, options and user-friendly features\nIntroduction to word processing\, spreadsheets programs\nIntro to Internet concepts / services\nInformation safety / security\nWeb Search\, Social Media and other useful online services.\nThis computer lab will provide individualized instruction in a self-paced environment. Coursework will be specific to participants area of study.\n\nThis beginner course is for individuals who are struggling with basic computer skills\, who would like to become comfortable and effective using a computer in their daily / work lives.\n\nSegal Shaw is a web designer and software engineer with over 12 years of experience creating\, designing\, and maintaining websites. She is passionate about teaching local people to keep up-to-date with computer skills. She helps businesses create and maintain evolving websites\, eCommerce platforms\, security\, and social media technologies in order to be competitive and succeed in the marketplace.\n\nTestimonials:\n\nâ€œThe class (as I understand it) is for anyone who is uncomfortable using computers and could benefit from a gently-paced course. The course will provide basic knowledge and skills\, and progress at a pace and direction suitable for the students.â€\n\nâ€œComputer skills are becoming a necessity and many of us were never offered the opportunity to acquire these skills.  I like sharing my knowledge and support people as they become more comfortable and effective while working with computers.  Computers can be powerful tools in our lives and I want to empower all to use and enjoy them.â€
LOCATION:JEDI
UID:e.3627.730
SEQUENCE:3
DTSTAMP:20260425T161726Z
URL:http://reddingchamber.chambermaster.com/events/details/basic-computer-skills-01-01-1900-730
END:VEVENT

END:VCALENDAR
